BEGIN:VCALENDAR
VERSION:2.0
PRODID:-//Tukios.com/
BEGIN:VEVENT
UID:3a1b9cd8-e7e6-4c00-99ba-03451147c04a@www.lamontmortuary.com
DTSTAMP:20260423T015734Z
DTSTART:20260425T130000Z
DTEND:20260425T140000Z
SUMMARY:Viewing
DESCRIPTION:
URL:https://www.lamontmortuary.com/obituaries/albert-titla
LOCATION:Lamont Mortuary Of Globe 328 S Hill St  Globe AZ 85501
GEO:33.3942026;-110.7850944
END:VEVENT
END:VCALENDAR