BEGIN:VCALENDAR
VERSION:2.0
PRODID:-//Tukios.com/
BEGIN:VEVENT
UID:2dd2dfcb-b37a-4ab5-99c1-adea636cf1b5@www.lamontmortuary.com
DTSTAMP:20260423T015943Z
DTSTART:20260425T160000Z
DTEND:20260425T170000Z
SUMMARY:Funeral Service
DESCRIPTION:
URL:https://www.lamontmortuary.com/obituaries/albert-titla
LOCATION:Lamont Mortuary Of Globe 328 S Hill St  Globe AZ 85501
GEO:33.3942026;-110.7850944
END:VEVENT
END:VCALENDAR