BEGIN:VCALENDAR
VERSION:2.0
PRODID:-//Tukios.com/
BEGIN:VEVENT
UID:a1eaaf5c-9e8d-45cc-b3b1-6b338cf03d6a@www.lamontmortuary.com
DTSTAMP:20260423T015759Z
DTSTART:20260425T160000Z
DTEND:20260425T170000Z
SUMMARY:Burial
DESCRIPTION:
URL:https://www.lamontmortuary.com/obituaries/albert-titla
LOCATION: Bylas  Bylas AZ 85530
GEO:33.1388468;-110.1248403
END:VEVENT
END:VCALENDAR