BEGIN:VCALENDAR
VERSION:2.0
PRODID:-//Tukios.com/
BEGIN:VEVENT
UID:746eb250-2329-4e36-801b-0c49a4c52f3a@www.lamontmortuary.com
DTSTAMP:20260424T223753Z
DTSTART:20260516T160000Z
DTEND:20260516T170000Z
SUMMARY:Mass
DESCRIPTION:
URL:https://www.lamontmortuary.com/obituaries/andrew-marin
LOCATION: 201 South Broad Street  Globe AZ 85501
GEO:33.3949389;-110.7863982
END:VEVENT
END:VCALENDAR