BEGIN:VCALENDAR
VERSION:2.0
PRODID:-//Tukios.com/
BEGIN:VEVENT
UID:dfeaf734-dbce-4c19-8859-ece6f40630b8@www.lamontmortuary.com
DTSTAMP:20260424T223723Z
DTSTART:20260516T153000Z
DTEND:20260516T160000Z
SUMMARY:Rosary
DESCRIPTION:
URL:https://www.lamontmortuary.com/obituaries/andrew-marin
LOCATION: 201 South Broad Street  Globe AZ 85501
GEO:33.3949389;-110.7863982
END:VEVENT
END:VCALENDAR