BEGIN:VCALENDAR
VERSION:2.0
PRODID:-//Tukios.com/
BEGIN:VEVENT
UID:caa253d5-9d50-4c9f-a081-f28953dd70ec@www.lamontmortuary.com
DTSTAMP:20260424T011307Z
DTSTART:20260502T000000Z
DTEND:20260502T010000Z
SUMMARY:Viewing
DESCRIPTION:
URL:https://www.lamontmortuary.com/obituaries/carmen-acosta
LOCATION: 844 Sullivan Street  Miami AZ 85539
GEO:33.3972738;-110.8748859
END:VEVENT
END:VCALENDAR