BEGIN:VCALENDAR
VERSION:2.0
PRODID:-//Tukios.com/
BEGIN:VEVENT
UID:caa41d6d-2795-45d5-988d-a15e1a24f9de@www.lamontmortuary.com
DTSTAMP:20260424T011836Z
DTSTART:20260502T160000Z
DTEND:20260502T170000Z
SUMMARY:Funeral Service
DESCRIPTION:
URL:https://www.lamontmortuary.com/obituaries/carmen-acosta
LOCATION: 844 Sullivan Street  Miami AZ 85539
GEO:33.3972738;-110.8748859
END:VEVENT
END:VCALENDAR