BEGIN:VCALENDAR
VERSION:2.0
PRODID:-//Tukios.com/
BEGIN:VEVENT
UID:bf7476f4-7300-41a0-bed3-84082c33db2f@www.lamontmortuary.com
DTSTAMP:20260423T015605Z
DTSTART:20260501T210000Z
DTEND:20260501T220000Z
SUMMARY:Wake
DESCRIPTION:
URL:https://www.lamontmortuary.com/obituaries/deanna-smith
LOCATION:Smith's house Residence 141 North High Street  Globe AZ 85501
GEO:33.3977825;-110.7835189
END:VEVENT
END:VCALENDAR