BEGIN:VCALENDAR
VERSION:2.0
PRODID:-//Tukios.com/
BEGIN:VEVENT
UID:4732ea63-af76-4407-a479-fb402e0a9961@www.lamontmortuary.com
DTSTAMP:20260423T015950Z
DTSTART:20260502T190000Z
DTEND:20260502T200000Z
SUMMARY:Funeral Service
DESCRIPTION:
URL:https://www.lamontmortuary.com/obituaries/deanna-smith
LOCATION:  Rodeo Lane  Los Angeles CA 90016
GEO:34.0203165;-118.346903
END:VEVENT
END:VCALENDAR