BEGIN:VCALENDAR
VERSION:2.0
PRODID:-//Tukios.com/
BEGIN:VEVENT
UID:edce7b42-a2a9-47f5-bfd7-9beef8d19580@www.lamontmortuary.com
DTSTAMP:20260424T235655Z
DTSTART:20260425T200000Z
DTEND:20260425T210000Z
SUMMARY:Funeral Service
DESCRIPTION:
URL:https://www.lamontmortuary.com/obituaries/kelly-casoose
LOCATION:  Aravaipa Road  San Carlos AZ 85550
GEO:33.3504967;-110.4656206
END:VEVENT
END:VCALENDAR