BEGIN:VCALENDAR
VERSION:2.0
PRODID:-//Tukios.com/
BEGIN:VEVENT
UID:06359072-e960-41b1-b45f-e60a5465be8e@www.lamontmortuary.com
DTSTAMP:20260425T000115Z
DTSTART:20260424
SUMMARY:Burial
DESCRIPTION:
URL:https://www.lamontmortuary.com/obituaries/kelly-casoose
LOCATION:  Arizona 170  San Carlos AZ 
GEO:33.3292546;-110.4544504
END:VEVENT
END:VCALENDAR