BEGIN:VCALENDAR
VERSION:2.0
PRODID:-//Tukios.com/
BEGIN:VEVENT
UID:4bbeed2f-fec0-4856-a710-349b1b9aa51d@www.lamontmortuary.com
DTSTAMP:20260424T011733Z
DTSTART:20260424T160000Z
DTEND:20260424T170000Z
SUMMARY:Funeral Service
DESCRIPTION:
URL:https://www.lamontmortuary.com/obituaries/pamela-goseyun
LOCATION: SAN CARLOS  SAN CARLOS AZ 85550
GEO:33.3509682;-110.4524572
END:VEVENT
END:VCALENDAR