BEGIN:VCALENDAR
VERSION:2.0
PRODID:-//Tukios.com/
BEGIN:VEVENT
UID:3a92e871-54a3-4d65-832b-6f635d092e66@www.lamontmortuary.com
DTSTAMP:20260425T000101Z
DTSTART:20260426T220000Z
DTEND:20260426T230000Z
SUMMARY:Wake
DESCRIPTION:
URL:https://www.lamontmortuary.com/obituaries/rayleen-russell
LOCATION:Franklin Reede's Residence Franklin Reede's Residence  San 
	Carlos AZ 85550
GEO:33.3545086;-110.452479
END:VEVENT
END:VCALENDAR