BEGIN:VCALENDAR
VERSION:2.0
PRODID:-//Tukios.com/
BEGIN:VEVENT
UID:6c2d72f4-07d9-4aaa-844a-e602f61b9f9d@www.lamontmortuary.com
DTSTAMP:20260424T235547Z
DTSTART:20260427T160000Z
DTEND:20260427T170000Z
SUMMARY:Funeral Service
DESCRIPTION:
URL:https://www.lamontmortuary.com/obituaries/rayleen-russell
LOCATION:LDS Morman HIll  San Carlos AZ 85550
GEO:33.3525351;-110.4596523
END:VEVENT
END:VCALENDAR