BEGIN:VCALENDAR
VERSION:2.0
PRODID:-//Tukios.com/
BEGIN:VEVENT
UID:f9128088-de99-4548-8d85-de9b73c1772b@www.lamontmortuary.com
DTSTAMP:20260424T235727Z
DTSTART:20260427
SUMMARY:Burial
DESCRIPTION:
URL:https://www.lamontmortuary.com/obituaries/rayleen-russell
LOCATION:  Coolidge Dam Road  Peridot AZ 
GEO:33.2889378;-110.4585731
END:VEVENT
END:VCALENDAR