BEGIN:VCALENDAR
VERSION:2.0
PRODID:-//Tukios.com/
BEGIN:VEVENT
UID:730038d7-bcd4-4fdb-9431-1b2ef4e8436a@www.lamontmortuary.com
DTSTAMP:20260421T205545Z
DTSTART:20260502T160000Z
DTEND:20260502T170000Z
SUMMARY:Mass
DESCRIPTION:
URL:https://www.lamontmortuary.com/obituaries/ricky-cayouette
LOCATION:Holy Angels Church 201 South Broad Street  Globe AZ 85501
GEO:33.3949389;-110.7863982
END:VEVENT
END:VCALENDAR