BEGIN:VCALENDAR
VERSION:2.0
PRODID:-//Tukios.com/
BEGIN:VEVENT
UID:49e15d6d-170f-4cc4-9a8f-b1d120e3a4a7@www.lamontmortuary.com
DTSTAMP:20260421T204713Z
DTSTART:20260502T153000Z
DTEND:20260502T160000Z
SUMMARY:Rosary
DESCRIPTION:
URL:https://www.lamontmortuary.com/obituaries/ricky-cayouette
LOCATION:Holy Angels Church 201 South Broad Street  Globe AZ 85501
GEO:33.3949591;-110.7863927
END:VEVENT
END:VCALENDAR