BEGIN:VCALENDAR
VERSION:2.0
PRODID:-//Tukios.com/
BEGIN:VEVENT
UID:6c46d18f-3444-492e-84a4-6884e9dd4866@www.lamontmortuary.com
DTSTAMP:20260424T223433Z
DTSTART:20260428T230000Z
DTEND:20260429T000000Z
SUMMARY:Wake
DESCRIPTION:
URL:https://www.lamontmortuary.com/obituaries/veronica-ferreira
LOCATION:Family's Residence Peridot Siding  Peridot AZ 85542
GEO:33.3093006;-110.4447981
END:VEVENT
END:VCALENDAR