BEGIN:VCALENDAR
VERSION:2.0
PRODID:-//Tukios.com/
BEGIN:VEVENT
UID:42cc2a2f-7436-4126-a459-72c98d6e502b@www.lamontmortuary.com
DTSTAMP:20260424T223723Z
DTSTART:20260429
SUMMARY:Burial
DESCRIPTION:
URL:https://www.lamontmortuary.com/obituaries/veronica-ferreira
LOCATION:  Highway 70 East  Peridot AZ 
GEO:33.3002864;-110.4660936
END:VEVENT
END:VCALENDAR